BEGIN:VCALENDAR
VERSION:2.0
PRODID:-//jEvents 2.0 for Joomla//EN
CALSCALE:GREGORIAN
METHOD:PUBLISH
BEGIN:VEVENT
UID:090b8ac6916ee6258b88ea347199d0c6
CATEGORIES:American Corner / Dorośli
CREATED:20211004T154211
SUMMARY:LIFE AS A DIPLOMAT ? prezentacja w języku angielskim
LOCATION:American Corner, II piętro
DESCRIPTION;ENCODING=QUOTED-PRINTABLE:American Corner serdecznie zaprasza uczniów szkół średnich i studentów na p
 rezentację w języku angielskim pt. ?Life as a Diplomat?. Spotkanie poprowad
 zi Dolores Prin, Konsul do spraw Prasy i Kultury Konsulatu Amerykańskiego w
  Krakowie.\n- - - - - - - - - - - - - - -\n ?&nbsp;Obowiązują zapisy: 71 33
 52215, RegularLabs.EmailProtector.unCloak("ep_bd172f3e");RegularLabs.EmailP
 rotector.unCloak("ep_b29716ab", true);\n &nbsp;




CONTACT:Obowiązują zapisy ? RegularLabs.EmailProtector.unCloak("ep_31bf2419");
DTSTAMP:20260422T094619Z
DTSTART;TZID=UTC:20211021T120000
DTEND;TZID=UTC:20211021T130000
SEQUENCE:0
TRANSP:OPAQUE
END:VEVENT
END:VCALENDAR