BEGIN:VCALENDAR
VERSION:2.0
PRODID:-//jEvents 2.0 for Joomla//EN
CALSCALE:GREGORIAN
METHOD:PUBLISH
BEGIN:VEVENT
UID:6599d4f66d1096e5c711be4e63bccc9c
CATEGORIES:Zajęcia dla dzieci
CREATED:20211003T045417
SUMMARY:MEET AMERICA! English scavenger hunt ? city game
LOCATION:Rynek wrocławski i American Corner, II piętro
DESCRIPTION;ENCODING=QUOTED-PRINTABLE:American Corner zaprasza na wrocławski Rynek i do biblioteki na adresowaną 
 do dzieci i młodzieży zabawę terenową Meet America - ?English Scavenger Hun
 t?, z użyciem języka angielskiego.&nbsp;Zapraszamy do rozwiązania z nami ła
 migłówek językowych i poznania ciekawych historii.\n- - - - - - - - - - - -
  - - -\n ?&nbsp;Liczba miejsc ograniczona. Zapisy wyłącznie dla grup szkoln
 ych:\nRegularLabs.EmailProtector.unCloak("ep_ea788e8a");RegularLabs.EmailPr
 otector.unCloak("ep_f39fb042", true);\n &nbsp;




CONTACT:Obowiązują zapisy ? RegularLabs.EmailProtector.unCloak("ep_1f055129");
DTSTAMP:20260422T105755Z
DTSTART;TZID=UTC:20211020T093000
DTEND;TZID=UTC:20211020T110000
SEQUENCE:0
TRANSP:OPAQUE
END:VEVENT
END:VCALENDAR