BEGIN:VCALENDAR
VERSION:2.0
PRODID:-//jEvents 2.0 for Joomla//EN
CALSCALE:GREGORIAN
METHOD:PUBLISH
BEGIN:VEVENT
UID:6e26fed305d374387fbb37111ff936d2
CATEGORIES:Wykład 
CREATED:20211001T095946
SUMMARY:GEORGIA O'KEEFFE. Na podstawie powieści Down Trip ?Georgia...?
LOCATION:Sala im. Tadeusza Mikulskiego, III piętro
DESCRIPTION;ENCODING=QUOTED-PRINTABLE:Zapraszamy na wykład Barbary Przerwy z Muzeum Narodowego we Wrocławiu, pośw
 ięcony amerykańskiej malarce&nbsp;Georgii O'Keeffe, w ramach cyklu ?Malarze
  i Książki?.\n \n Od prowadzącej wykład Barbary Przerwy z Muzeum Narodowego
  we Wrocławiu:\n ?Powieść Dawn Tripp o Georgii O' Keeffe rozpoczyna się pro
 logiem "Nie kocham Cię już tak jak kiedyś w oślepiającym pędzie tamtych dni
 . Sam czas zdawał się wtedy płonąć, przepełniał go ogień naszych ciał". Pis
 arka wybiera na narratora powieści malarkę, tak więc opowieść snuje nasza b
 ohaterka, zapewniając nas, że "to nie jest opowieść o miłości". Więc o czym
 ? Pierwszy rozdział przenosi nas do roku 1979, w którym artystka kończy 92 
 lata! I właśnie z tej perspektywy, Georgia O' Keeffe opowiada nam o swoim ż
 yciu, pełnym zachwytów pięknem przyrody, fascynacji Nowym Jorkiem, nieustaj
 ących zmagań artystycznych, o radości i trudach przeprowadzki do Nowego Mek
 syku. Zapraszam Państwa na spotkanie z fascynującą malarką i jej wyjątkowym
 i obrazami, pełnymi olbrzymich kwiatów, hipnotyzujących widoków znad jezior
 a George, nostalgicznych pustynnych pejzaży i zwierzęcych czaszek. Moim zda
 niem to jest opowieść o miłości - głębokiej i poruszającej miłości do sztuk
 i.?.[artSep color=#ac9c0c][/artSep]\n \n &nbsp;?Malarze i Książki? ? cykl w
 ykładów opowiadających o życiorysach sławnych malarek i malarzy na podstawi
 e powieści opartych na ich biografiach. Twórczość literacka obfitująca w ni
 ezwykłe wydarzenia, wyjątkowe zbiegi okoliczności, dramaty, wielkie i szalo
 ne miłości, teatralne wręcz rozstania i jeszcze bardziej gorące powroty zes
 tawiona zostanie z faktami życia artystów. Wykłady bogato ilustrowane dzieł
 ami sztuki pozwolą na odkrycie historii bohaterów z wielu perspektyw.




CONTACT:Obowiązuje limit 50 osób!\ntel.71 33-52-253
X-EXTRAINFO:Wstęp wolny! Obowiązuje limit 50 osób!
DTSTAMP:20260424T081658Z
DTSTART;TZID=UTC:20211020T170000
DTEND;TZID=UTC:20211020T180000
SEQUENCE:0
TRANSP:OPAQUE
END:VEVENT
END:VCALENDAR