BEGIN:VCALENDAR
VERSION:2.0
PRODID:-//jEvents 2.0 for Joomla//EN
CALSCALE:GREGORIAN
METHOD:PUBLISH
BEGIN:VEVENT
UID:f2430530f4ce3cd0d13b259f3e209d85
CATEGORIES:Wystawa
CREATED:20210929T083240
SUMMARY:Pożycz książkę ? poznaj temat! Zdrowie psychiczne
LOCATION:Czytelnia, II piętro
DESCRIPTION;ENCODING=QUOTED-PRINTABLE:W dniach 29.09.2021?13.10.2021 zapraszamy do Czytelni, gdzie przygotowane z
 ostały dla Państwa pozycje o zdrowiu psychicznym i jego ochronie. Książki o
  radzeniu sobie ze stresem, literaturę dotyczącą depresji, pomagającą zrozu
 mieć, czym ona jest, i dającą wskazówki na temat tego, co zrobić, by wrócić
  do zdrowia.&nbsp;W zeszłym tygodniu zaczęła się astronomiczna jesień, któr
 a niesie krótsze, chłodniejsze dni. Mijające lato i szybko zapadający zmrok
  mogą powodować obniżenie nastroju. Mało przyjemny jest również wyczuwalny 
 oddech zimy na karku. W sezonie jesienno-zimowym&nbsp;światła słonecznego j
 est coraz mniej, co powoduje zwiększoną senność i&nbsp;zmęczenie.&nbsp;Jedn
 ak poprzez&nbsp;wzgląd na zobowiązania&nbsp;musimy funkcjonować wciąż na wy
 sokich obrotach.&nbsp;Ważne jest jednak, abyśmy&nbsp;okazali sobie wyrozumi
 ałość.&nbsp;&nbsp;&nbsp;&nbsp;- - - - - - - - - - - - - - - - - - - - - - -
  - - - - - - - - - - - - - - - -? ?Pożycz książkę ? poznaj temat!? to akcja
 , w ramach której regularnie z przepastnych regałów magazynu wydobywamy dla
  Was książki o rozmaitej tematyce i&nbsp;umieszczamy na specjalnej półce w 
 czytelni. Możecie je tam przeglądać i wypożyczać te, które Was zainteresują
 . Serdecznie zapraszamy!\n &nbsp;? ? ? ? ? ? ? ? ? ? ? ? ? ? ? ?\n \n ? ? ?
  ? ? ? ? ? ? ? ? ? ? ? ? ?\n &nbsp;




CONTACT:Kontakt:\n71 33-52-257
DTSTAMP:20260422T102042Z
DTSTART;TZID=UTC:20210929T103000
DTEND;TZID=UTC:20211013T183000
SEQUENCE:0
TRANSP:OPAQUE
END:VEVENT
END:VCALENDAR