BEGIN:VCALENDAR
VERSION:2.0
PRODID:-//jEvents 2.0 for Joomla//EN
CALSCALE:GREGORIAN
METHOD:PUBLISH
BEGIN:VEVENT
UID:e97972d768ec9df6df3243df6c757e3f
CATEGORIES:Warsztaty dla dorosłych
CREATED:20210907T125719
SUMMARY:Ambasada Dobrego Dialogu ? warsztaty dla licealistów
LOCATION:American Corner, II piętro
DESCRIPTION;ENCODING=QUOTED-PRINTABLE:			Zapraszamy na&nbsp; warsztaty dla&nbsp; młodzieży z wrocławskich szk&oac
 ute;ł licealnych. Warsztaty są organizowane przez wrocławską Fundację Freya
  wraz z American Corner.\n		\n		Podczas warsztat&oacute;w zapoznamy uczni&o
 acute;w z szeroko pojętym &nbsp;tematem praw człowieka. Będziemy rozmawiać 
 o dyskryminacji i tolerancji. Pobudzimy uczni&oacute;w do&nbsp;myślenia, wc
 zucia się w&nbsp;sytuację osoby dyskryminowanej, wzbudzenie empatii, podejm
 owanie dyskusji oraz&nbsp;samodzielnego wyciągania wniosk&oacute;w.\n		\n		
 Celem warsztat&oacute;w &nbsp;jest uwrażliwienie młodzieży na szacunek, krz
 ewienie otwartości i tolerancji.	- - - - - - - - - - - - - - - - - -\n	? Ob
 owiązują zapisy &ndash; 71-3352215, e-mail&nbsp;RegularLabs.EmailProtector.
 unCloak("ep_385a84ed");\n	- - - - - - - - - - - - - - - - - -\n	Uwaga! W cz
 asie prowadzonych w dziale warsztat&oacute;w dostęp do p&oacute;łek i możli
 wość zwrotu/wypożyczenia materiał&oacute;w mogą być ograniczone. 




CONTACT:Obowiązują zapisy: \nRegularLabs.EmailProtector.unCloak("ep_90bd93bc");\nlub tel. 71 33-52-215
DTSTAMP:20260424T081659Z
DTSTART;TZID=UTC:20211027T100000
DTEND;TZID=UTC:20211027T113000
SEQUENCE:0
TRANSP:OPAQUE
END:VEVENT
END:VCALENDAR