BEGIN:VCALENDAR
VERSION:2.0
PRODID:-//jEvents 2.0 for Joomla//EN
CALSCALE:GREGORIAN
METHOD:PUBLISH
BEGIN:VEVENT
UID:30eaa6a689d05b313d631e6e11fb97c0
CATEGORIES:Zajęcia dla dzieci
CREATED:20210907T075506
SUMMARY:Parki Narodowe USA ? warsztaty dla grup szkolnych 
LOCATION:American Corner, II piętro
DESCRIPTION;ENCODING=QUOTED-PRINTABLE:<div style="text-align: justify;">	<span style="font-size:14px;">Bizony, ło
 sie i łososie &ndash; kraina lśniących jezior, gejzer&oacute;w i niedźwiedz
 i. Zapraszamy na spotkanie, podczas kt&oacute;rego wsp&oacute;lnie odkrywam
 y piękno Park&oacute;w Narodowych USA. Dzieci poznają rożne gatunki zwierzą
 t oraz wiele ciekawostek na temat najstarszego parku narodowego na świecie 
 Yellowstone, zobaczą największe sekwoje i poznają tajemnice dzikich zwierzą
 t zamieszkujących Amerykę P&oacute;łnocną.<br />	<br />	Zajęcia dla dzieci 
 z klas &nbsp;3&ndash;6.</span><br />	<span style="color:#ac9c0c;">- - - - -
  - - - - - - - - - - - - - - - - - - - - - - -</span><br />	<span style="fo
 nt-size:12px;"><span style="color: rgb(178, 34, 34);">? </span><span style=
 "font-family: helvetica;">Obowiązują zapisy &ndash; 71-3352215<br />	e-mail
 : <!-- This email address is being protected from spambots. --><span class=
 "cloaked_email ep_ad909079"><span data-ep-b="" data-ep-a="&#97;&#109;&#99;&
 #111;"><span data-ep-a="&#114;&#110;&#101;&#114;" data-ep-b="&#99;.&#112;l"
 ><span data-ep-b=".&#119;&#114;&#111;" data-ep-a="&#64;&#119;&#98;&#112;"><
 /span></span></span></span><script>RegularLabs.EmailProtector.unCloak("ep_a
 d909079");</script></span></span><br />	<span style="color:#D30000;">- - - 
 - - - - - - - - - - - - - - - - - - - - - - - - -</span><br />	<span style=
 "font-family:helvetica;"><span style="font-size: 12px;"><span style="color:
 #D30000;">Uwaga! </span>W czasie prowadzonych w dziale warsztat&oacute;w do
 stęp do p&oacute;łek i możliwość zwrotu/wypożyczenia materiał&oacute;w mogą
  być ograniczone. </span></span></div><div class="attachmentsContainer">

<
 div class="dbpAttachmentsList" id="attachmentsList_com_jevents_default_1573
 "></div>

</div>
CONTACT:Obowiązują zapisy!
DTSTAMP:20260422T090943Z
DTSTART;TZID=UTC:20211006T100000
DTEND;TZID=UTC:20211006T110000
SEQUENCE:0
TRANSP:OPAQUE
END:VEVENT
END:VCALENDAR