BEGIN:VCALENDAR
VERSION:2.0
PRODID:-//jEvents 2.0 for Joomla//EN
CALSCALE:GREGORIAN
METHOD:PUBLISH
BEGIN:VEVENT
UID:637b5b008f8afac65f4d77778115fbaa
CATEGORIES:Spotkanie autorskie
CREATED:20190215T085045
SUMMARY:ZAKAZANA HISTORIA DOLNEGO ŚLĄSKA ? wieczór autorski Hannibala Smoke'a
LOCATION:Sala im. T. Mikulskiego, III piętro
DESCRIPTION;ENCODING=QUOTED-PRINTABLE:Zapraszamy na spotkanie, podczas którego pisarz i dziennikarz Hannibal Smok
 e opowie, jak niszczyliśmy i nadal niszczymy dziedzictwo materialne naszego
  regionu.\n&nbsp;- - - - - - - - - - - - - - - - - - - - - - - - - - - - - 
 - - - - - -\n ? Hannibal Smoke ? pisarz, dziennikarz, fotoreporter, grafik.
  Autor magicznej trylogii kryminalnej osadzonej w scenerii Dolnego Śląska: 
 ?Tusculum?, ?Muzeum Prawdy? i ?Emplarium?. Debiutował bestsellerowym zbiore
 m opowiadań sensacyjno-obyczajowych ?Kompot ze świeżego nieboszczyka?, po l
 atach uzupełnionym i wydanym pod tytułem ?Apokalipsa czyli sport motorowodn
 y?. Współpracownik portalu Onet.pl zaangażowany w ratowanie dolnośląskiego 
 pejzażu kulturowego, co dokumentuje strona na facebooku: Hannibal Smoke: Em
 plarium oraz autorski kanał na YouTube. W grudniu 2016 roku ukazało się jeg
 o ?Niewidzialne Miasto? ? bestsellerowy album historyczny dokumentujący naj
 ważniejsze budowle Wrocławia zrównane z ziemią w latach 1938?2000, natomias
 t w listopadzie 2018 roku do księgarń trafił utrzymany w podobnej konwencji
  ?Niewidziany Dolny Śląsk?.&nbsp;Trylogię promowaną jako ?Zakazana historia
  Dolnego Śląska? zamyka wydana w czerwcu 2020 roku ?Cicha Apokalipsa".&nbsp
 ;To jedyny w swoim rodzaju przewodnik grozy po zamkach, pałacach i dworach 
 Dolnego Śląska zrujnowanych począwszy od 1945 roku.\n Fanpage autora &gt;&g
 t;&nbsp;\n\n&nbsp;\n




CONTACT:Obowiązuje limit 50 osób!\ntel.: 71 33 52 236
X-EXTRAINFO:Wstęp wolny! Obowiązuje limit 50 osób!
DTSTAMP:20260424T081649Z
DTSTART;TZID=UTC:20211022T180000
DTEND;TZID=UTC:20211022T190000
SEQUENCE:0
TRANSP:OPAQUE
END:VEVENT
END:VCALENDAR